Workbook
Name プロジェクト一覧: OFFSET(リスト!$B$6,0,0,COUNTA(リスト!$B$6:$B$206),1)
Name 経費区分: OFFSET(リスト!$D$6,0,0,COUNTA(リスト!$D$6:$D$46),1)
Name 消費税区分: OFFSET(リスト!$F$6,0,0,COUNTA(リスト!$F$6:$F$26),1)
Name 税率区分: OFFSET(リスト!$M$6,0,0,COUNTA(リスト!$M$6:$M$26),1)
Name 年度区分: OFFSET(リスト!$H$6,0,0,COUNTA(リスト!$H$6:$H$26),1)

Sheet 様式第1号
A1: ※ 薄い黄色のセルにご記入ください。薄い青のセルは自動計算・自動反映です（入力不要）。 ※ このシートに入力した内容は、様式第２号・第３号に自動で反映されます。
A4: 様式第１号（第５条関係）
AB6: （提出日） | AJ6: 令和 年 月 日
A8: 一般社団法人白馬村観光局 宛
AB10: （申請者）
AB11: 住 所
AB14: 事業者名・団体名
AB17: 代表者職氏名
AB20: ※ 記名により押印に代えます。
A22: 白馬村宿泊税活用事業補助金交付申請書
A25: 白馬村宿泊税活用事業補助金交付要綱第５条の規定により、下記のとおり白馬村宿泊税活用事業補助金の交付を申請します。
A30: 記
A32: １．補助事業名
A34: ２．補助事業の内容等 | AA34: 事業実施計画書（様式第２号）のとおり
A36: ３．補助金交付申請額 | AA36: =IF(様式第3号!$AS$80="","",様式第3号!$AS$80) | AQ36: ← 様式第３号から自動計算されます
A38: ４．補助事業完了予定年月日 | AA38: 令和 年 月 日
A39: ５．添付書類（提出するものにチェックを入れてください）
C40: □ | F40: (1) 事業実施計画書（様式第２号）
C42: □ | F42: (2) 補助対象経費見積書（様式第３号）
C44: □ | F44: (3) 補助対象事業の内容を確認できる書類（見積書、企画書、図面等）
C46: □ | F46: (4) 申請者の概要がわかる資料（定款・規約・法人登記事項証明書、直近の決算書等）
C48: □ | F48: (5) その他事務局が必要と認める書類
A52: ６．次の事項を確認し、承知の上で申請します。 ※確認後はチェックを入れてください
C53: □ | F53: 村税等の納付状況について、（一社）白馬村観光局が村に照会する方法にて、情報提供することに同意します。
C57: ※ 調査により知り得た情報は、本補助金の申請資格の確認以外には使用しません。 ※ 同意いただけない場合は、申請要件の確認ができないため、申請を受け付けることができません。
A63: （担当者及び連絡先）
C64: 担当部署名
C66: 役職名
C68: 氏名
C70: 電話番号 | AU70: ※ 日中つながる番号をご記入ください
C72: E-Mail
A75: ※ 薄い黄色のセルにご記入ください。薄い青のセルは自動計算・自動反映です（入力不要）。

Sheet 様式第2号
A2: 様式第２号（第５条関係）
A5: 事 業 実 施 計 画 書
A7: ※ 記入欄に文字が入りきらない場合は、行番号の境界をドラッグして行の高さを広げてください。文字数の制限はありません。 ※ 行や列を増やさないでください。薄い青のセルは自動計算・自動反映です（入力不要）。
A9: １ 申請者 | L9: =IF(様式第1号!$AM$14="","",様式第1号!$AM$14)
A11: ２ 事業名 | L11: =IF(様式第1号!$AA$32="","",様式第1号!$AA$32)
A13: ３ 実施箇所
A15: ４ 実施期間 | L15: 事業開始年月日 | Y15: 令和 年 月 日
L17: 事業終了年月日 | Y17: =IF(様式第1号!$AA$38="","",様式第1号!$AA$38) -> 令和 年 月 日
A19: ５ 年度区分 | L19: 単年度事業 | Z19: ※プルダウンから選択してください
A21: 複数年事業と する理由 | L21: ※「複数年事業」を選んだ場合のみ記入してください（対象年度・年度ごとの到達点も記載）。
A27: ６ 事業区分 ※ プルダウンの「★」は評価基準書に定める重点分野です
A29: 主たる プロジェクト
BJ30: ※プルダウンから選択してください
A32: 関連する プロジェクト （複数選択可） | L32: ※ 該当するものがあれば、プルダウンから選択してください（3つまで／該当なしは空欄）。
BJ34: ※プルダウンから選択してください
BJ36: ※プルダウンから選択してください
BJ38: ※プルダウンから選択してください
A40: 観光地経営ビジョンとの整合性 | L40: 上記プロジェクトへの適合性を記載してください
L42: ※ 白馬村観光地経営ビジョンの目標像の実現にどうつながるのかを記載してください。
A54: ７ 事業概要
A56: 事 業 概 要 | L56: (1) 事業背景及び目的
L58: ※ どのような課題があり、本事業で何を達成しようとするのかを記載してください。
L70: (2) 事業内容・実施手法
L72: ※ 何を、どこで、誰と、どのように実施するのかを具体的に記載してください。 ※ あわせて、審査項目となる持続可能性、実現性についても可能な場合は記載してください。 ・自然環境、景観、地域住民の暮らしとの調和をどう図るか（持続可能性） ・継続性・自走化の見通し
L100: (3) 実施スケジュール
L102: ※ 月別・四半期別など、工程が分かる形で記載してください。
A112: ８ 事業効果
A114: 事業効果 | L114: ※ 可能な限り、KPI（重要業績評価指標）として数値化（現状値・目標値）して記載してください。
A128: ９ 実施体制
A130: 実施体制 （組織体制・人員体制・連携先等） | L130: ※ 本事業を遂行する組織体制・人員体制・役割分担、関係団体や連携先を記載してください。 ※ 過去に実施した類似事業の実績があれば、あわせて記載してください。
A145: 10 その他特記事項
A147: その他、 特記事項 | L147: その他、特に伝えておきたい点、事業の発展性、VICEモデルへの効果など
L149: ※ 特にアピールしたい点や、新規モデル性、発展性など ※ VICEモデルとは、Visitor（来訪者）・Industry（産業）・Community（地域社会）・Environment（環境）の4者のニーズを満たしながら、相互のバランスを適切に保つことを重視する観光地経営の考え方です。
A165: ※ 記入欄に文字が入りきらない場合は、行番号の境界をドラッグして行の高さを広げてください。文字数の制限はありません。 ※ 行や列を増やさないでください。薄い青のセルは自動計算・自動反映です（入力不要）。

Sheet 様式第3号
A1: ※ 記入欄に文字が入りきらない場合は、行番号の境界をドラッグして行の高さを広げてください。文字数の制限はありません。 ※ 薄い青のセルは自動計算・自動反映です（入力不要）。列は増やさないでください。行の追加方法は上の注意書きをご覧ください。
A3: 様式第３号（第５条関係）
A5: 補 助 対 象 経 費 見 積 書
A8: 申請者 | K8: =IF(様式第1号!$AM$14="","",様式第1号!$AM$14) | AP8: 消費税の区分 | BU8: ← ※ プルダウンから選択（税抜換算に使用）
A10: 事業名 | K10: =IF(様式第2号!$L$11="","",様式第2号!$L$11)
A13: １ 支出の部 （単位：円）
A15: 費 目 （※ プルダウン） | O15: 内 容 | AI15: 積 算 基 礎 | AY15: 税率 | BE15: 総事業費 （税込） | BO15: うち補助対象経費 （税込） | BY15: 補助対象経費 （税抜・自動）
BY18: =IF(BO18="","",IF($BB$8="免税事業者",BO18,IF(AY18="不課税",BO18,IF(AY18="8%",ROUNDDOWN(BO18/1.08,0),ROUNDDOWN(BO18/1.1,0)))))
BY20: =IF(BO20="","",IF($BB$8="免税事業者",BO20,IF(AY20="不課税",BO20,IF(AY20="8%",ROUNDDOWN(BO20/1.08,0),ROUNDDOWN(BO20/1.1,0)))))
BY22: =IF(BO22="","",IF($BB$8="免税事業者",BO22,IF(AY22="不課税",BO22,IF(AY22="8%",ROUNDDOWN(BO22/1.08,0),ROUNDDOWN(BO22/1.1,0)))))
BY24: =IF(BO24="","",IF($BB$8="免税事業者",BO24,IF(AY24="不課税",BO24,IF(AY24="8%",ROUNDDOWN(BO24/1.08,0),ROUNDDOWN(BO24/1.1,0)))))
BY26: =IF(BO26="","",IF($BB$8="免税事業者",BO26,IF(AY26="不課税",BO26,IF(AY26="8%",ROUNDDOWN(BO26/1.08,0),ROUNDDOWN(BO26/1.1,0)))))
BY28: =IF(BO28="","",IF($BB$8="免税事業者",BO28,IF(AY28="不課税",BO28,IF(AY28="8%",ROUNDDOWN(BO28/1.08,0),ROUNDDOWN(BO28/1.1,0)))))
BY30: =IF(BO30="","",IF($BB$8="免税事業者",BO30,IF(AY30="不課税",BO30,IF(AY30="8%",ROUNDDOWN(BO30/1.08,0),ROUNDDOWN(BO30/1.1,0)))))
BY32: =IF(BO32="","",IF($BB$8="免税事業者",BO32,IF(AY32="不課税",BO32,IF(AY32="8%",ROUNDDOWN(BO32/1.08,0),ROUNDDOWN(BO32/1.1,0)))))
BY34: =IF(BO34="","",IF($BB$8="免税事業者",BO34,IF(AY34="不課税",BO34,IF(AY34="8%",ROUNDDOWN(BO34/1.08,0),ROUNDDOWN(BO34/1.1,0)))))
BY36: =IF(BO36="","",IF($BB$8="免税事業者",BO36,IF(AY36="不課税",BO36,IF(AY36="8%",ROUNDDOWN(BO36/1.08,0),ROUNDDOWN(BO36/1.1,0)))))
BY38: =IF(BO38="","",IF($BB$8="免税事業者",BO38,IF(AY38="不課税",BO38,IF(AY38="8%",ROUNDDOWN(BO38/1.08,0),ROUNDDOWN(BO38/1.1,0)))))
BY40: =IF(BO40="","",IF($BB$8="免税事業者",BO40,IF(AY40="不課税",BO40,IF(AY40="8%",ROUNDDOWN(BO40/1.08,0),ROUNDDOWN(BO40/1.1,0)))))
... BY44: =IF(BO44="","",IF($BB$8="免税事業者",BO44,IF(AY44="不課税",BO44,IF(AY44="8%",ROUNDDOWN(BO44/1.08,0),ROUNDDOWN(BO44/1.1,0)))))
A46: 計 | BE46: =SUM(BE18:BE45) -> 0 | BO46: =SUM(BO18:BO45) -> 0 | BY46: =SUM(BY18:BY45) -> 0
A48: ↑ 総事業費 計 | BY48: ↑補助対象経費計（A）
A51: ※ 補助対象経費に係る消費税及び地方消費税相当額は、補助対象経費に含まれません（免税事業者を除く）。「補助対象経費（税抜）」は税率欄の区分に応じて自動計算されます。 ※ 税率欄は「10%」「8%」（軽減税率：飲食料品等）「不課税」（人件費・賃金など消費税がかからないもの）から選択してください。未選択の場合は10%として計算されます。
A54: ２ 特定財源 （単位：円） ※ 本補助金以外の収入をご記入ください
A56: 区 分 | AE56: 見積額 | AU56: 備 考
A58: ① 協賛金・寄付金
A60: ② 参加費・売上金 | AU60: 事業実施により得られる収入
A62: ③ 他の補助金・助成金等 | AU62: ※ 国・県補助事業の場合、裏負担への他補助金充当の可否をご確認ください
A64: ④ その他の収入
A66: 特定財源 計（B） | AE66: =SUM(AE58:AE65) -> 0 | AU66: ← 申請時は控除しません（下の注意書きをご確認ください）
A69: ※ 本補助金以外の収入（協賛金・売上金・寄付金等）を得る事業については、原則として本補助金を一律減額する処理は行いません。 ただし、事業完了時に特定財源と補助金の合計が補助対象経費の総額を超える場合は、超過額について本補助金を減額または返還していただきます（公募要領２(4)ウ）。 ※ 特定財源は実績報告時に精算しますので、見込みを漏れなくご記入ください。
A74: ３ 補助金交付申請額の算定
A76: 補助対象経費（税抜）の合計（A） | AS76: =$BY$46 -> 0
A78: 補助率 | AS78: 定額（10/10）
A80: 補助金交付申請額（A・千円未満切捨て） | AS80: =IF($BY$46=0,"",FLOOR($BY$46,1000)) | BK80: ← 様式第１号に自動反映されます
A83: 最低事業成立額 | BK83: ← 補助金額（内示及び交付時）を減額せざるを得ない場合に備え、この金額まで減額されても事業が実施できるという下限額と、その理由をご記入ください。
A85: 最低事業成立額の理由
A90: ４ 自動チェック（「要確認」と赤く表示された場合は内容をご確認ください）
A92: 補助申請額が概ね100万円以上であること | AY92: =IF($BY$46=0,"—",IF(FLOOR($BY$46,1000)>=1000000,"OK","要確認")) -> — | BK92: =IF($BY$46=0,"","補助申請額 "&TEXT(FLOOR($BY$46,1000),"#,##0")&"円")
A94: 人件費が総事業費の20％以内であること | AY94: =IF($BE$46=0,"—",IF(SUMIF($A$18:$A$45,"人件費",$BE$18:$BE$45)/$BE$46<=0.2,"OK","要確認")) -> — | BK94: =IF($BE$46=0,"","人件費の割合 "&TEXT(SUMIF($A$18:$A$45,"人件費",$BE$18:$BE$45)/$BE$46,"0.0%")&"（上限20.0%）")
...

Sheet 提出前チェック
B2: 提出前チェックシート
B3: ※ 提出前にすべての項目をご確認ください。
B5: ■ 様式第１号（交付申請書）
B6: □ | C6: 住所・事業者名／団体名・代表者職氏名を記入した
B7: □ | C7: 補助事業名・補助事業完了予定年月日を記入した
B8: □ | C8: 担当者及び連絡先を記入した
B9: □ | C9: 添付書類のチェック欄に記入した
B10: □ | C10: 村税等の納付状況の調査に関する同意欄にチェックした
B11: ■ 様式第２号（事業実施計画書）
B12: □ | C12: 実施箇所・事業開始年月日を記入した
B13: □ | C13: 年度区分を選択した（複数年事業の場合は理由も記入した）
B14: □ | C14: 主たるプロジェクトを選択した
B15: □ | C15: すべての記入欄に記入した（空欄がない）
B16: □ | C16: 印刷プレビューで、文字が途中で切れていないことを確認した
B17: ■ 様式第３号（補助対象経費見積書）
B18: □ | C18: 消費税の区分を選択した
B19: □ | C19: 支出の部に、費目・内容・積算基礎・金額を記入した
B20: □ | C20: 特定財源（協賛金・売上金・他の補助金等）を漏れなく記入した
B21: □ | C21: 最低事業成立額とその理由を記入した
B22: □ | C22: 「４ 自動チェック」に「要確認」が残っていない
B23: ■ 添付書類
B24: □ | C24: 補助対象事業の内容を確認できる書類（見積書、企画書、図面等）
B25: □ | C25: 申請者の概要がわかる資料（定款・規約・法人登記事項証明書、直近の決算書等）
B26: □ | C26: 1件10万円以上の契約について、複数見積書または選定理由書
B27: ■ 提出
B28: □ | C28: 申請受付締切（令和８年１０月１６日（金）17時必着）に間に合う
B29: □ | C29: ファイル名を「団体名_事業名」に変更した

Sheet リスト
B2: プルダウンの元データ
B3: ※ 各リストは行を追加・削除できます。空白行を作らず、リストの最終行に続けて追記してください（途中に空白行があると、その手前までしかプルダウンに反映されません）。
B5: ① 重点分野・プロジェクト ※「★」＝評価基準書に定める重点分野 | D5: ② 経費区分 | F5: ③ 消費税の区分 | H5: ④ 年度区分 | J5: ⑤ 人件費の規定単価（公募要領） | K5: 単価 | M5: ⑥ 税率区分
B6: ★1-1-1 既存の取組の成果等を踏まえた二次交通のデザイン | D6: 人件費 | F6: 課税事業者 | H6: 単年度事業 | J6: 専門スタッフ（ディレクター） | K6: 2400 | M6: 10%
B7: 1-1-2 多様な交通手段のわかりやすい情報発信 | D7: 広告宣伝費 | F7: 免税事業者 | H7: 複数年事業 | J7: 一般スタッフ（事務・オペレーター） | K7: 1500 | M7: 8%
B8: 1-1-3 自転車など環境負荷が低い移動手段の普及 | D8: 消耗品費 | M8: 不課税
B9: 1-2-1 事業者や学校との連携による観光教育カリキュラムの構築 | D9: 旅費交通費
B10: 1-3-1 住民や観光客が地域資源の保全・活用に参画できる仕組みづくり | D10: 使用料及び賃借料 | M10: ※「不課税」＝人件費（賃金）、保険料など、消費税がかからない経費
B11: 1-4-1 多様な村民に届くわかりやすい情報発信（インナーキャンペーンの強化） | D11: 委託費
B12: 1-4-2 事業者と連携した住民向け優待策の充実・発信 | D12: その他経費
B13: 1-5-1 災害発生時の即応体制の構築
B14: 1-5-2 DCM（観光地継続マネジメント）の策定
B15: ★2-1-1 白馬村の魅力を損なわないための開発ルール・指導体制の構築
B16: 2-2-1 「白馬村観光事業者向けガイドライン」の普及・徹底
B17: 2-2-2 「白馬村マナー条例」の運用
B18: 2-2-3 違法民泊の取り締まり強化
B19: ★2-3-1 観光関連データの取得・分析方法の再整理・実施体制構築
B20: ★3-1-1 通年型マウンテンリゾートとしての春・夏・秋のコンテンツ造成と滞在スタイルの提案
B21: 3-2-1 従業員向け研修プログラムの地域全体での展開
B22: 3-2-2 労働環境・居住環境改善・福利厚生充実による観光産業の魅力づくり
B23: ★3-3-1 村内主要インフラ・観光関連設備等の再投資計画の検討
B24: 3-4-1 高付加価値コンテンツの造成と通訳ガイドの育成
... B35: 4-6-2 観光地経営ビジョン・アクションプランの管理体制の構築
