Workbook
Name 経費区分: OFFSET(リスト!$B$6,0,0,COUNTA(リスト!$B$6:$B$46),1)
Name 経費区分_人件費以外: OFFSET(リスト!$B$7,0,0,COUNTA(リスト!$B$7:$B$46),1)
Name 口座種別: OFFSET(リスト!$F$6,0,0,COUNTA(リスト!$F$6:$F$26),1)
Name 収入区分: OFFSET(リスト!$J$6,0,0,COUNTA(リスト!$J$6:$J$26),1)
Name 消費税区分: OFFSET(リスト!$D$6,0,0,COUNTA(リスト!$D$6:$D$26),1)
Name 請求区分: OFFSET(リスト!$H$6,0,0,COUNTA(リスト!$H$6:$H$26),1)
Name 税率区分: OFFSET(リスト!$M$6,0,0,COUNTA(リスト!$M$6:$M$26),1)

Sheet ①基本情報
B2: ① 基本情報シート（このシートだけ入力してください）
B3: 薄い黄色のセルにご記入ください。ここに入力した内容が、各様式に自動で反映されます。
B5: １ 申請者情報
B6: 住 所
B7: 団 体 名
B8: 代表者職氏名 | D8: ※ 記名により押印に代えます
B9: 消費税の区分 | D9: ※ プルダウンから選択してください
B11: ２ 担当者・連絡先
B12: 担当部署名
B13: 役職名
B14: 氏名
B15: 電話番号 | D15: ※ 日中つながる番号
B16: E-Mail
B18: ３ 交付決定の内容（交付決定通知書を見てご記入ください）
B19: 交付決定年月日 | D19: 例）令和９年３月10日 ※ 日付・文字のどちらでも可
B20: 文書番号 | D20: 例）白観局第 12 － 3 号
B21: 補助金交付決定額 | D21: ※ 半角数字のみ（円）
B22: 事業名
B24: ４ 振込先口座
B25: 金融機関名
B26: 支店（支所）名
B27: 口座の種別 | D27: ※ プルダウンから選択してください
B28: 口座番号
B29: 口座名義人（カナ） | D29: ※ 全角カナでご記入ください
B31: ※ 口座情報は、補助金のお振込みにのみ使用します。

Sheet 様式4変更届
A2: 様式第４号（第８条関係）
AB4: （提出日） | AJ4: 令和 年 月 日
A6: 一般社団法人白馬村観光局 宛
AB8: （申請者）
AB9: 住 所 | AM9: =IF(①基本情報!C6="","",①基本情報!C6)
AB12: 団 体 名 | AM12: =IF(①基本情報!C7="","",①基本情報!C7)
AB15: 代表者職氏名 | AM15: =IF(①基本情報!C8="","",①基本情報!C8)
AB18: ※ 記名により押印に代えます。
A20: 白馬村宿泊税活用事業補助金変更承認申請書
A23: =" "&IF(①基本情報!C19="","令和 年 月 日",IF(ISNUMBER(①基本情報!C19),"令和"&(YEAR(①基本情報!C19)-2018)&"年"&MONTH(①基本情報!C19)&"月"&DAY(①基本情報!C19)&"日",①基本情報!C19))&"付け "&IF(①基本情報!C20="","白観局第 － 号",①基本情報!C20)&" で交付決定のあった白馬村宿泊税活用事業補助金について、白馬村宿泊税活用事業補助金交付要綱第８条の規定により、下記のとおり変更したいので承認を申請します。" -> 令和 年 月 日付け 白観局第 － 号 で交付決定のあった白馬村宿泊税活用事業補助金について、白馬村宿泊税活用事業補助金交付要綱第８条の規定により、下記のとおり変更したいので承認を申請します。
A28: 記
A30: １．変更の区分（該当するものにチェックを入れてください）
C31: □ | F31: 補助事業の内容を変更しようとするとき
C33: □ | F33: 交付決定時の補助対象経費の総額の20％を超えて変更しようとするとき
C35: □ | F35: 補助事業を中止し、又は廃止しようとするとき
A38: ２．変更後の補助金交付申請額
A40: （変更前の交付決定額） | AE40: =IF(①基本情報!C21="","",①基本情報!C21)
A43: ３．変更後の補助事業完了予定年月日 | AE43: 令和 年 月 日
A46: ４．変更の内容及び理由
A60: ５．添付書類
C61: □ | F61: (1) 変更後の内容が確認できる書類
F63: ※ 事業実施計画書（様式第２号）・補助対象経費見積書（様式第３号）の再提出は不要です。 変更後の内容が確認できる書類により確認します。
A69: （担当者及び連絡先）
C70: 担当部署名 | U70: =IF(①基本情報!C12="","",①基本情報!C12)
C72: 役職名 | U72: =IF(①基本情報!C13="","",①基本情報!C13)
C74: 氏名 | U74: =IF(①基本情報!C14="","",①基本情報!C14)
C76: 電話番号 | U76: =IF(①基本情報!C15="","",①基本情報!C15)
C78: E-Mail | U78: =IF(①基本情報!C16="","",①基本情報!C16)

Sheet 様式5概算払・請求書
A2: 様式第５号（第１３条関係）
AB4: （提出日） | AJ4: 令和 年 月 日
A6: 一般社団法人白馬村観光局 宛
AB8: （申請者）
AB9: 住 所 | AM9: =IF(①基本情報!C6="","",①基本情報!C6)
AB12: 団 体 名 | AM12: =IF(①基本情報!C7="","",①基本情報!C7)
AB15: 代表者職氏名 | AM15: =IF(①基本情報!C8="","",①基本情報!C8)
AB18: ※ 記名により押印に代えます。
A20: 白馬村宿泊税活用事業補助金（概算払・精算払）請求書
A23: 白馬村宿泊税活用事業補助金交付要綱第１３条の規定により、下記のとおり白馬村宿泊税活用事業補助金を請求します。
A28: 記
A30: １．請求の区分 | U30: 精算払 | AO30: ※ プルダウンから選択してください
C32: =" "&IF(①基本情報!C19="","令和 年 月 日",IF(ISNUMBER(①基本情報!C19),"令和"&(YEAR(①基本情報!C19)-2018)&"年"&MONTH(①基本情報!C19)&"月"&DAY(①基本情報!C19)&"日",①基本情報!C19))&"付け "&IF(①基本情報!C20="","白観局第 － 号",①基本情報!C20)&" で交付決定のあったもの" -> 令和 年 月 日付け 白観局第 － 号 で交付決定のあったもの
A35: ２．補助金請求額
C36: 交付決定額 | R36: 前回までに交付を 受けた額 | AG36: 今回請求額 | AV36: 残 高
C39: =IF(①基本情報!C21="","",①基本情報!C21) | AV39: =IF(C39="","",C39-IF(R39="",0,R39)-IF(AG39="",0,AG39))
A43: ※ 概算払の額は、請求時点までの出来高に対応する補助対象経費（確定分）に係る補助金相当額の100分の90を上限とします（交付要綱第１３条第２項）。 ※ 概算払の回数は、一事業あたり２回を限度とします。
A48: ３．振込先
C49: 金融機関名 | W49: =IF(①基本情報!C25="","",①基本情報!C25)
C51: 支店（支所）名 | W51: =IF(①基本情報!C26="","",①基本情報!C26)
C53: 口座の種別 | W53: =IF(①基本情報!C27="","",①基本情報!C27)
C55: 口座番号 | W55: =IF(①基本情報!C28="","",①基本情報!C28)
C57: 口座名義人（カナ） | W57: =IF(①基本情報!C29="","",①基本情報!C29)
C59: ※ ①基本情報シートから自動反映されます。
A61: （担当者及び連絡先）
C62: 担当部署名 | U62: =IF(①基本情報!C12="","",①基本情報!C12)
C64: 役職名 | U64: =IF(①基本情報!C13="","",①基本情報!C13)
C66: 氏名 | U66: =IF(①基本情報!C14="","",①基本情報!C14)
C68: 電話番号 | U68: =IF(①基本情報!C15="","",①基本情報!C15)
C70: E-Mail | U70: =IF(①基本情報!C16="","",①基本情報!C16)

Sheet 様式6実績報告書
A2: 様式第６号（第１０条関係）
AB4: （提出日） | AJ4: 令和 年 月 日
A6: 一般社団法人白馬村観光局 宛
AB8: （申請者）
AB9: 住 所 | AM9: =IF(①基本情報!C6="","",①基本情報!C6)
AB12: 団 体 名 | AM12: =IF(①基本情報!C7="","",①基本情報!C7)
AB15: 代表者職氏名 | AM15: =IF(①基本情報!C8="","",①基本情報!C8)
AB18: ※ 記名により押印に代えます。
A20: 白馬村宿泊税活用事業補助金実績報告書
A23: =" "&IF(①基本情報!C19="","令和 年 月 日",IF(ISNUMBER(①基本情報!C19),"令和"&(YEAR(①基本情報!C19)-2018)&"年"&MONTH(①基本情報!C19)&"月"&DAY(①基本情報!C19)&"日",①基本情報!C19))&"付け "&IF(①基本情報!C20="","白観局第 － 号",①基本情報!C20)&" で交付決定のあった白馬村宿泊税活用事業補助金について、白馬村宿泊税活用事業補助金交付要綱第１０条の規定により、下記のとおり実績を報告します。" -> 令和 年 月 日付け 白観局第 － 号 で交付決定のあった白馬村宿泊税活用事業補助金について、白馬村宿泊税活用事業補助金交付要綱第１０条の規定により、下記のとおり実績を報告します。
A28: 記
A30: １．補助金交付決定額 | AC30: =IF(①基本情報!C21="","",①基本情報!C21)
A32: ２．補助事業の内容等 | AC32: 補助事業実施報告書（様式第８号）のとおり
A34: ３．補助事業完了年月日 | AC34: 令和 年 月 日
A36: ４．報告の対象年度 | AC36: 令和 年度分
C38: ※ 複数年度にわたる補助事業の場合に記載してください（交付要綱第１０条第２項）。
A41: ５．添付書類（提出するものにチェックを入れてください）
C42: □ | F42: (1) 補助事業実施報告概要書（様式第７号）
C44: □ | F44: (2) 補助事業実施報告書（様式第８号）
C46: □ | F46: (3) 経費内訳書・補助簿（様式第９号）
C48: □ | F48: (4) 経費内訳のわかる証憑書類（見積書、契約書、請求書、領収書、銀行通帳の写し他）
C50: □ | F50: (5) 補助事業の実施が確認できる書類及び写真
C52: □ | F52: (6) 人件費がある場合は、人件費 業務日誌及び勤務表（各社のタイムカード・出勤簿等）
C54: □ | F54: (7) その他事務局が必要と認める書類
C56: ※ 広報表示の状況が確認できる写真は、補助事業実施報告書（様式第８号）の「６ 広報表示の状況」に貼り付けてください。
A58: （担当者及び連絡先）
C59: 担当部署名 | U59: =IF(①基本情報!C12="","",①基本情報!C12)
C61: 役職名 | U61: =IF(①基本情報!C13="","",①基本情報!C13)
C63: 氏名 | U63: =IF(①基本情報!C14="","",①基本情報!C14)
C65: 電話番号 | U65: =IF(①基本情報!C15="","",①基本情報!C15)
C67: E-Mail | U67: =IF(①基本情報!C16="","",①基本情報!C16)

Sheet 様式7実施報告概要書
A2: 様式第７号（第１０条関係）
A4: 補 助 事 業 実 施 報 告 概 要 書
BJ5: ※ この様式は、白馬村観光局のWEBサイト等で一般に公開します。個人情報や社外秘の情報は記載しないでください。 ※ A4判1枚に収めてください。
A8: 事業名 | L8: =IF(①基本情報!C22="","",①基本情報!C22)
A10: 実施主体 | L10: =IF(①基本情報!C7="","",①基本情報!C7)
A12: 実施期間 | L12: 令和 年 月 ～ 令和 年 月 | AH12: 補助金額 | AS12: =IF(様式9経費内訳・補助簿!$AQ$165="","",様式9経費内訳・補助簿!$AQ$165) -> 0
A15: １ どのような事業を実施したか
BJ17: ※ 専門用語を避け、一般の方が読んで分かる表現でご記入ください。 ※ 様式８(1)事業目的・内容をまとめて記載してください
A41: ２ どのような成果が得られたか
BJ43: ※ 可能な範囲で数値を交えてご記入ください（例：参加者○○人、宿泊者数○○人泊増）。 ※ 様式８(2)事業効果をまとめて記載してください
A53: ３ 今後どのように展開していくか | AJ53: ４ 事業の様子（写真1点）
AJ55: この枠内に写真を1点貼り付けてください （枠外にはみ出さないようご調整ください） | BJ55: ３について ※ 補助期間終了後の継続・発展の見通しをご記入ください。 ※ 様式８(4)今後の展開・自走化の見通しをまとめて記載してください
AJ74: キャプションを記載ください
A76: □ | D76: 掲載する写真について、被写体となる方の掲載許諾および著作権の確認を済ませています。

Sheet 様式8実施報告詳細
A2: 様式第８号（第１０条関係）
A5: 補 助 事 業 実 施 報 告 書
A7: ※ 記入欄に文字が入りきらない場合は、行番号の境界をドラッグして行の高さを広げてください。文字数の制限はありません。 ※ 行や列を増やさないでください。
A9: １ 申請者 | L9: =IF(①基本情報!C7="","",①基本情報!C7)
A11: ２ 事業名 | L11: =IF(①基本情報!C22="","",①基本情報!C22)
A13: ３ 実施箇所
A15: ４ 実施期間 | L15: 令和 年 月 日 ～ 令和 年 月 日
A17: ５ 実施内容
A19: 実 施 内 容 | L19: (1) 事業目的・内容（実施したこと）
L21: ※ 計画の事業目的及び、実際に何を、どこで、誰と、どのように実施したのかを記載してください。
L37: (2) 事業効果
L39: ※ 下のKPI表に、申請時の様式第２号「８ 事業効果」に記載したKPIを転記し、実績値をご記入ください。※ 達成率は自動計算されます。数値化していないKPIは、下の記述欄にその内容と結果をご記入ください。
L43: KPI（指標） | AD43: 計画値 | AN43: 実績値 | AX43: 達成率
AX45: =IF(OR(AD45="",AN45="",NOT(ISNUMBER(AD45)),NOT(ISNUMBER(AN45))),"",IF(AD45=0,"",AN45/AD45))
AX47: =IF(OR(AD47="",AN47="",NOT(ISNUMBER(AD47)),NOT(ISNUMBER(AN47))),"",IF(AD47=0,"",AN47/AD47))
AX49: =IF(OR(AD49="",AN49="",NOT(ISNUMBER(AD49)),NOT(ISNUMBER(AN49))),"",IF(AD49=0,"",AN49/AD49))
AX51: =IF(OR(AD51="",AN51="",NOT(ISNUMBER(AD51)),NOT(ISNUMBER(AN51))),"",IF(AD51=0,"",AN51/AD51))
AX53: =IF(OR(AD53="",AN53="",NOT(ISNUMBER(AD53)),NOT(ISNUMBER(AN53))),"",IF(AD53=0,"",AN53/AD53))
L65: (3) 計画との相違点及びその理由
L67: ※ 計画どおりに実施できなかった点がある場合は、その内容と理由を記載してください。
L79: (4) 今後の展開・自走化の見通し
L81: ※ 補助期間終了後、どのように事業を継続・発展させるのかを記載してください。
L93: (5) その他特記事項
L95: ※ その他、報告しておきたい事項を記載してください。
A108: ６ 広報表示の状況（写真）
A110: 広 報 表 示 | L110: ※ 本補助金により取得（作成）した施設・設備・機材・印刷物等に表示した「白馬村宿泊税活用事業」である旨の 表示が分かるように撮影された写真を貼り付けてください（交付要綱第９条第３項、公募要領５(6)）。 ※ 表示を行わなかった場合は、その理由と、他の方法により周知した内容を下欄に記載してください。
L116: この枠内に写真を貼り付けてください | AK116: この枠内に写真を貼り付けてください
L136: （表示場所・内容） | AK136: （表示場所・内容）
L139: 表示を行わなかった場合の理由・代替の周知方法
L141: ※ 表示を行った場合は記入不要です。
A150: ※ 記入欄に文字が入りきらない場合は、行番号の境界をドラッグして行の高さを広げてください。文字数の制限はありません。 ※ 行や列を増やさないでください。

Sheet 様式9経費内訳・補助簿
A2: 様式第９号（第１０条関係）
A4: 経 費 内 訳 書 ・ 補 助 簿
A6: ※ 収入及び支出の明細を、発生順に記録してください。ここに入力すると、費目別の集計と補助金額が自動で計算されます。 ※ 会計ソフト等から出力した出納帳・仕訳帳の写しをもって、この様式の「１ 収入明細」「２ 支出明細」に代えることができます。 その場合は、各明細に証憑番号を付し、添付する証憑書類と突合できるようにしたうえで、「３ 費目別集計」以降にご記入ください。 ※ 証拠書類は、証憑番号を付してＡ４判の台紙に貼付し、整理してください。
A11: 申請者 | K11: =IF(①基本情報!C7="","",①基本情報!C7) | AN11: 消費税の区分 | AZ11: =IF(①基本情報!C9="","",①基本情報!C9) | BU11: ← ①基本情報から自動反映
A13: 事業名 | K13: =IF(①基本情報!C22="","",①基本情報!C22)
A16: １ 収入明細（特定財源） （単位：円） ※ 本補助金以外の収入をすべてご記入ください
A18: 年月日 | K18: 区 分 （※ プルダウン） | Z18: 相手先 | AR18: 摘 要 | BS18: 金 額
A37: 特定財源 計（Ａ） | BS37: =SUM(BS21:BS36) -> 0
A39: ※ 特定財源（協賛金、売上金、寄付金その他の本補助金以外の収入）の額は、補助対象経費から控除されます（交付要綱第11条第2項）。
A42: ２ 支出明細（人件費以外） （単位：円） ※ 人件費は下の「３ 支出明細（人件費）」にご記入ください
A44: 証憑 番号 | H44: 年月日 | P44: 費 目 （※ プルダウン） | AC44: 摘 要 | AQ44: 税率 （※選択） | AU44: 支払先 | BI44: 支出額 （税込） | BP44: 補助対象経費 (税抜・自動) | BW44: うち補助対象 （税込） | CD44: 補助対象経費 (税抜・自動)
BP47: =IF(BI47="","",IF($AZ$11="免税事業者",BI47,IF(AQ47="不課税",BI47,IF(AQ47="8%",ROUNDDOWN(BI47/1.08,0),ROUNDDOWN(BI47/1.1,0))))) | CD47: =IF(BW47="","",IF($AZ$11="免税事業者",BW47,IF(AQ47="不課税",BW47,IF(AQ47="8%",ROUNDDOWN(BW47/1.08,0),ROUNDDOWN(BW47/1.1,0)))))
BP49: =IF(BI49="","",IF($AZ$11="免税事業者",BI49,IF(AQ49="不課税",BI49,IF(AQ49="8%",ROUNDDOWN(BI49/1.08,0),ROUNDDOWN(BI49/1.1,0))))) | CD49: =IF(BW49="","",IF($AZ$11="免税事業者",BW49,IF(AQ49="不課税",BW49,IF(AQ49="8%",ROUNDDOWN(BW49/1.08,0),ROUNDDOWN(BW49/1.1,0)))))
BP51: =IF(BI51="","",IF($AZ$11="免税事業者",BI51,IF(AQ51="不課税",BI51,IF(AQ51="8%",ROUNDDOWN(BI51/1.08,0),ROUNDDOWN(BI51/1.1,0))))) | CD51: =IF(BW51="","",IF($AZ$11="免税事業者",BW51,IF(AQ51="不課税",BW51,IF(AQ51="8%",ROUNDDOWN(BW51/1.08,0),ROUNDDOWN(BW51/1.1,0)))))
BP53: =IF(BI53="","",IF($AZ$11="免税事業者",BI53,IF(AQ53="不課税",BI53,IF(AQ53="8%",ROUNDDOWN(BI53/1.08,0),ROUNDDOWN(BI53/1.1,0))))) | CD53: =IF(BW53="","",IF($AZ$11="免税事業者",BW53,IF(AQ53="不課税",BW53,IF(AQ53="8%",ROUNDDOWN(BW53/1.08,0),ROUNDDOWN(BW53/1.1,0)))))
BP55: =IF(BI55="","",IF($AZ$11="免税事業者",BI55,IF(AQ55="不課税",BI55,IF(AQ55="8%",ROUNDDOWN(BI55/1.08,0),ROUNDDOWN(BI55/1.1,0))))) | CD55: =IF(BW55="","",IF($AZ$11="免税事業者",BW55,IF(AQ55="不課税",BW55,IF(AQ55="8%",ROUNDDOWN(BW55/1.08,0),ROUNDDOWN(BW55/1.1,0)))))
BP57: =IF(BI57="","",IF($AZ$11="免税事業者",BI57,IF(AQ57="不課税",BI57,IF(AQ57="8%",ROUNDDOWN(BI57/1.08,0),ROUNDDOWN(BI57/1.1,0))))) | CD57: =IF(BW57="","",IF($AZ$11="免税事業者",BW57,IF(AQ57="不課税",BW57,IF(AQ57="8%",ROUNDDOWN(BW57/1.08,0),ROUNDDOWN(BW57/1.1,0)))))
BP59: =IF(BI59="","",IF($AZ$11="免税事業者",BI59,IF(AQ59="不課税",BI59,IF(AQ59="8%",ROUNDDOWN(BI59/1.08,0),ROUNDDOWN(BI59/1.1,0))))) | CD59: =IF(BW59="","",IF($AZ$11="免税事業者",BW59,IF(AQ59="不課税",BW59,IF(AQ59="8%",ROUNDDOWN(BW59/1.08,0),ROUNDDOWN(BW59/1.1,0)))))
BP61: =IF(BI61="","",IF($AZ$11="免税事業者",BI61,IF(AQ61="不課税",BI61,IF(AQ61="8%",ROUNDDOWN(BI61/1.08,0),ROUNDDOWN(BI61/1.1,0))))) | CD61: =IF(BW61="","",IF($AZ$11="免税事業者",BW61,IF(AQ61="不課税",BW61,IF(AQ61="8%",ROUNDDOWN(BW61/1.08,0),ROUNDDOWN(BW61/1.1,0)))))
BP63: =IF(BI63="","",IF($AZ$11="免税事業者",BI63,IF(AQ63="不課税",BI63,IF(AQ63="8%",ROUNDDOWN(BI63/1.08,0),ROUNDDOWN(BI63/1.1,0))))) | CD63: =IF(BW63="","",IF($AZ$11="免税事業者",BW63,IF(AQ63="不課税",BW63,IF(AQ63="8%",ROUNDDOWN(BW63/1.08,0),ROUNDDOWN(BW63/1.1,0)))))
BP65: =IF(BI65="","",IF($AZ$11="免税事業者",BI65,IF(AQ65="不課税",BI65,IF(AQ65="8%",ROUNDDOWN(BI65/1.08,0),ROUNDDOWN(BI65/1.1,0))))) | CD65: =IF(BW65="","",IF($AZ$11="免税事業者",BW65,IF(AQ65="不課税",BW65,IF(AQ65="8%",ROUNDDOWN(BW65/1.08,0),ROUNDDOWN(BW65/1.1,0)))))
BP67: =IF(BI67="","",IF($AZ$11="免税事業者",BI67,IF(AQ67="不課税",BI67,IF(AQ67="8%",ROUNDDOWN(BI67/1.08,0),ROUNDDOWN(BI67/1.1,0))))) | CD67: =IF(BW67="","",IF($AZ$11="免税事業者",BW67,IF(AQ67="不課税",BW67,IF(AQ67="8%",ROUNDDOWN(BW67/1.08,0),ROUNDDOWN(BW67/1.1,0)))))
BP69: =IF(BI69="","",IF($AZ$11="免税事業者",BI69,IF(AQ69="不課税",BI69,IF(AQ69="8%",ROUNDDOWN(BI69/1.08,0),ROUNDDOWN(BI69/1.1,0))))) | CD69: =IF(BW69="","",IF($AZ$11="免税事業者",BW69,IF(AQ69="不課税",BW69,IF(AQ69="8%",ROUNDDOWN(BW69/1.08,0),ROUNDDOWN(BW69/1.1,0)))))
... BP105: =IF(BI105="","",IF($AZ$11="免税事業者",BI105,IF(AQ105="不課税",BI105,IF(AQ105="8%",ROUNDDOWN(BI105/1.08,0),ROUNDDOWN(BI105/1.1,0))))) | CD105: =IF(BW105="","",IF($AZ$11="免税事業者",BW105,IF(AQ105="不課税",BW105,IF(AQ105="8%",ROUNDDOWN(BW105/1.08,0),ROUNDDOWN(BW105/1.1,0)))))
A107: 計 | BI107: =SUM(BI47:BI106) -> 0 | BP107: =SUM(BP47:BP106) -> 0 | BW107: =SUM(BW47:BW106) -> 0 | CD107: =SUM(CD47:CD106) -> 0
BO109: ↑ 事業費 （人件費除く） 計（Ｂ） | CB109: ↑ 事業費 （人件費除く）の 補助対象計（Ｃ）
A112: ※ 行が足りない場合は、最終行の1つ上の行を右クリックし「挿入」してください（合計の範囲が自動的に広がります）。 ※ 税率欄は「10%」「8%」（軽減税率：飲食料品等）「不課税」（消費税がかからないもの）から選択してください。未選択の場合は10%として税抜換算します（免税事業者は税抜換算しません）。
A115: ３ 支出明細（人件費） （単位：円） ※ 業務日誌の月別計を月ごとにご記入ください
A116: ※ 人件費は消費税がかからないため税抜換算は行いません。詳細（従事者・従事時間・業務内容）は別途提出いただく「人件費 業務日誌」で確認します。
A117: 年 月 | P117: 摘 要（業務の概要／内訳は業務日誌のとおり） | BS117: 当事業の人件費額
A132: 人件費 計（Ｄ） | BS132: =SUM(BS119:BS131) -> 0
A134: ４ 費目別集計（人件費以外） （単位：円） ※ ２の支出明細（人件費以外）から自動集計されます
A136: 費 目 | X136: 総事業費 | AR136: うち補助対象（税込） | BM136: 補助対象経費（税抜）
A138: 広告宣伝費 | X138: =IF(SUMIF($P$47:$P$106,$A138,$BI$47:$BI$106)=0,"",SUMIF($P$47:$P$106,$A138,$BI$47:$BI$106)) | AR138: =IF(SUMIF($P$47:$P$106,$A138,$BW$47:$BW$106)=0,"",SUMIF($P$47:$P$106,$A138,$BW$47:$BW$106)) | BM138: =IF(SUMIF($P$47:$P$106,$A138,$CD$47:$CD$106)=0,"",SUMIF($P$47:$P$106,$A138,$CD$47:$CD$106))
A140: 消耗品費 | X140: =IF(SUMIF($P$47:$P$106,$A140,$BI$47:$BI$106)=0,"",SUMIF($P$47:$P$106,$A140,$BI$47:$BI$106)) | AR140: =IF(SUMIF($P$47:$P$106,$A140,$BW$47:$BW$106)=0,"",SUMIF($P$47:$P$106,$A140,$BW$47:$BW$106)) | BM140: =IF(SUMIF($P$47:$P$106,$A140,$CD$47:$CD$106)=0,"",SUMIF($P$47:$P$106,$A140,$CD$47:$CD$106))
A142: 旅費交通費 | X142: =IF(SUMIF($P$47:$P$106,$A142,$BI$47:$BI$106)=0,"",SUMIF($P$47:$P$106,$A142,$BI$47:$BI$106)) | AR142: =IF(SUMIF($P$47:$P$106,$A142,$BW$47:$BW$106)=0,"",SUMIF($P$47:$P$106,$A142,$BW$47:$BW$106)) | BM142: =IF(SUMIF($P$47:$P$106,$A142,$CD$47:$CD$106)=0,"",SUMIF($P$47:$P$106,$A142,$CD$47:$CD$106))
A144: 使用料及び賃借料 | X144: =IF(SUMIF($P$47:$P$106,$A144,$BI$47:$BI$106)=0,"",SUMIF($P$47:$P$106,$A144,$BI$47:$BI$106)) | AR144: =IF(SUMIF($P$47:$P$106,$A144,$BW$47:$BW$106)=0,"",SUMIF($P$47:$P$106,$A144,$BW$47:$BW$106)) | BM144: =IF(SUMIF($P$47:$P$106,$A144,$CD$47:$CD$106)=0,"",SUMIF($P$47:$P$106,$A144,$CD$47:$CD$106))
A146: 委託費 | X146: =IF(SUMIF($P$47:$P$106,$A146,$BI$47:$BI$106)=0,"",SUMIF($P$47:$P$106,$A146,$BI$47:$BI$106)) | AR146: =IF(SUMIF($P$47:$P$106,$A146,$BW$47:$BW$106)=0,"",SUMIF($P$47:$P$106,$A146,$BW$47:$BW$106)) | BM146: =IF(SUMIF($P$47:$P$106,$A146,$CD$47:$CD$106)=0,"",SUMIF($P$47:$P$106,$A146,$CD$47:$CD$106))
A148: その他経費 | X148: =IF(SUMIF($P$47:$P$106,$A148,$BI$47:$BI$106)=0,"",SUMIF($P$47:$P$106,$A148,$BI$47:$BI$106)) | AR148: =IF(SUMIF($P$47:$P$106,$A148,$BW$47:$BW$106)=0,"",SUMIF($P$47:$P$106,$A148,$BW$47:$BW$106)) | BM148: =IF(SUMIF($P$47:$P$106,$A148,$CD$47:$CD$106)=0,"",SUMIF($P$47:$P$106,$A148,$CD$47:$CD$106))
A150: 合 計 | X150: =SUM(X138:X149) -> 0 | AR150: =SUM(AR138:AR149) -> 0 | BM150: =SUM(BM138:BM149) -> 0
...

Sheet 提出前チェック
B2: 提出前チェックシート（実績報告）
B3: ※ 提出前にすべての項目をご確認ください。このシートの提出は不要です。
B5: ■ ①基本情報シート
B6: □ | C6: 交付決定通知書を見て、交付決定年月日・文書番号・交付決定額を記入した
B7: □ | C7: 振込先口座を記入した（口座名義人は全角カナ）
B8: ■ 様式第６号（実績報告書）
B9: □ | C9: 補助事業完了年月日を記入した
B10: □ | C10: 複数年度事業の場合、報告の対象年度を記入した
B11: □ | C11: 添付書類のチェック欄に記入した
B12: ■ 様式第７号（報告概要書・WEB公開用）
B13: □ | C13: A4判1枚に収まっている（印刷プレビューで確認した）
B14: □ | C14: 個人情報・社外秘の情報が含まれていない
B15: □ | C15: 写真を1点貼り付け、掲載許諾の確認欄にチェックした
B16: ■ 様式第８号（実施報告書）
B17: □ | C17: 申請時のKPIを転記し、実績値を記入した
B18: □ | C18: 計画との相違点がある場合、その理由を記入した
B19: □ | C19: 広報表示の状況（写真）を貼り付けた
B20: □ | C20: 印刷プレビューで、文字が途中で切れていないことを確認した
B21: ■ 様式第９号（経費内訳書・補助簿）
B22: □ | C22: 「５ 自動チェック」がすべてOKになっている
B23: □ | C23: 1つの費目に複数の取引がある場合、補助簿を作成した
B24: □ | C24: 補助簿の内容を、申請者以外の者が確認した
B25: ■ 添付書類
B26: □ | C26: 証憑書類（見積書、契約書、請求書、領収書、通帳の写し等）
B27: □ | C27: 事業の実施が確認できる写真
B28: □ | C28: 様式第８号「６ 広報表示の状況」に写真を貼り付けた
B29: ■ 提出
B30: □ | C30: 提出期限（完了後30日以内又は令和10年３月31日のいずれか早い日）に間に合う
B31: □ | C31: 様式第５号（精算払請求書）もあわせて提出する

Sheet リスト
B2: プルダウンの元データ
B3: ※ 各リストは行を追加・削除できます。追加するときは、リストの最終行の「1つ上」の行を右クリックし「挿入」してください。
B5: ① 経費区分 | D5: ② 消費税の区分 | F5: ③ 口座の種別 | H5: ④ 請求の区分 | J5: ⑤ 収入の区分 | M5: ⑥ 税率区分
B6: 人件費 | D6: 課税事業者 | F6: 普通 | H6: 概算払（第1回） | J6: 協賛金・寄付金 | M6: 10%
B7: 広告宣伝費 | D7: 免税事業者 | F7: 当座 | H7: 概算払（第2回） | J7: 参加費・売上金 | M7: 8%
B8: 消耗品費 | H8: 精算払 | J8: 他の補助金・助成金等 | M8: 不課税
B9: 旅費交通費 | J9: その他の収入
B10: 使用料及び賃借料
B11: 委託費
B12: その他経費
